BEGIN:VCALENDAR
VERSION:2.0
PRODID:-//The Cornerstone Library - ECPv6.15.20//NONSGML v1.0//EN
CALSCALE:GREGORIAN
METHOD:PUBLISH
X-WR-CALNAME:The Cornerstone Library
X-ORIGINAL-URL:https://cornerstonelibrary.org
X-WR-CALDESC:Events for The Cornerstone Library
REFRESH-INTERVAL;VALUE=DURATION:PT1H
X-Robots-Tag:noindex
X-PUBLISHED-TTL:PT1H
BEGIN:VTIMEZONE
TZID:UTC
BEGIN:STANDARD
TZOFFSETFROM:+0000
TZOFFSETTO:+0000
TZNAME:UTC
DTSTART:20250101T000000
END:STANDARD
END:VTIMEZONE
BEGIN:VEVENT
DTSTART;TZID=UTC:20260423T101500
DTEND;TZID=UTC:20260423T110000
DTSTAMP:20260423T191237
CREATED:20260412T190607Z
LAST-MODIFIED:20260412T190630Z
UID:3204-1776939300-1776942000@cornerstonelibrary.org
SUMMARY:23/4/2026 - Story & Rhyme Time
DESCRIPTION:Story and Rhyme time\n\n Sing\, giggle\, and play – it’s Story & Rhyme Time!\n\n\n\nJoin us Thursday 23rd April at 10:15am for a fun\, FREE session for little ones aged 0–4 years.\n\n\n Familiar rhymes & actions\n Puppets & props for extra fun\n A chance for carers to chat & connect\n\n\n\n Sessions last about 45 mins\n\n\n\n Everyone welcome – no booking needed!\n\n Come along and make magical memories with your child!
URL:https://cornerstonelibrary.org/event/23-4-2026-story-rhyme-time/
CATEGORIES:Weekly event
ATTACH;FMTTYPE=image/jpeg:https://cornerstonelibrary.org/wp-content/uploads/2025/07/Story-and-Rhyme-time.jpg
END:VEVENT
BEGIN:VEVENT
DTSTART;TZID=UTC:20260416T101500
DTEND;TZID=UTC:20260416T110000
DTSTAMP:20260423T191237
CREATED:20260328T084810Z
LAST-MODIFIED:20260328T084810Z
UID:3167-1776334500-1776337200@cornerstonelibrary.org
SUMMARY:16/4/2026 - Story and Rhyme Time
DESCRIPTION:Story and Rhyme time\n\n Sing\, giggle\, and play – it’s Story & Rhyme Time!\n\n\n\nJoin us this Thursday at 10:15am for a fun\, FREE session for little ones aged 0–4 years.\n\n\n Familiar rhymes & actions\n Puppets & props for extra fun\n A chance for carers to chat & connect\n\n\n\n Sessions last about 45 mins\n\n\n\n Everyone welcome – no booking needed!\n\n Come along and make magical memories with your child!
URL:https://cornerstonelibrary.org/event/16-4-2026-story-and-rhyme-time/
CATEGORIES:Weekly event
ATTACH;FMTTYPE=image/jpeg:https://cornerstonelibrary.org/wp-content/uploads/2025/07/Story-and-Rhyme-time.jpg
END:VEVENT
BEGIN:VEVENT
DTSTART;TZID=UTC:20260409T101500
DTEND;TZID=UTC:20260409T110000
DTSTAMP:20260423T191237
CREATED:20260312T180236Z
LAST-MODIFIED:20260312T180438Z
UID:3142-1775729700-1775732400@cornerstonelibrary.org
SUMMARY:9/4/2026 - Story and Rhyme Time
DESCRIPTION:Story and Rhyme time\n\n Sing\, giggle\, and play – it’s Story & Rhyme Time!\n\n\n\nJoin us this Thursday at 10:15 am for a fun\, FREE session for little ones aged 0–4 years.\n\n\n Familiar rhymes & actions\n Puppets & props for extra fun\n A chance for carers to chat & connect\n\n\n\n Sessions last about 45 mins\n\n\n\n Everyone welcome – no booking needed!\n\n Come along and make magical memories with your child!
URL:https://cornerstonelibrary.org/event/9-4-2026-story-and-rhyme-time/
CATEGORIES:Weekly event
ATTACH;FMTTYPE=image/jpeg:https://cornerstonelibrary.org/wp-content/uploads/2025/07/Story-and-Rhyme-time.jpg
END:VEVENT
BEGIN:VEVENT
DTSTART;TZID=UTC:20260402T101500
DTEND;TZID=UTC:20260402T110000
DTSTAMP:20260423T191237
CREATED:20260216T213309Z
LAST-MODIFIED:20260312T180259Z
UID:2930-1775124900-1775127600@cornerstonelibrary.org
SUMMARY:2/4/2026 - Story and Rhyme time
DESCRIPTION:Story and Rhyme time\n\n Sing\, giggle\, and play – it’s Story & Rhyme Time!\n\n\n\nJoin us this Thursday at 10:15am for a fun\, FREE session for little ones aged 0–4 years.\n\n\n Familiar rhymes & actions\n Puppets & props for extra fun\n A chance for carers to chat & connect\n\n\n\n Sessions last about 45 mins\n\n\n\n Everyone welcome – no booking needed!\n\n Come along and make magical memories with your child!
URL:https://cornerstonelibrary.org/event/story-and-rhyme-time-3/
CATEGORIES:Weekly event
ATTACH;FMTTYPE=image/jpeg:https://cornerstonelibrary.org/wp-content/uploads/2025/07/Story-and-Rhyme-time.jpg
END:VEVENT
BEGIN:VEVENT
DTSTART;TZID=UTC:20260327T133000
DTEND;TZID=UTC:20260327T150000
DTSTAMP:20260423T191237
CREATED:20260216T214025Z
LAST-MODIFIED:20260312T180519Z
UID:2934-1774618200-1774623600@cornerstonelibrary.org
SUMMARY:27/3/2026 - Easter Bingo
DESCRIPTION:Easter Bingo \nSt Patrick’s Church Hall\, Marshside Road \nTickets are available to purchase at the library \nAfternoon refreshments available and raffle
URL:https://cornerstonelibrary.org/event/easter-bingo/
LOCATION:st patricks church hall
CATEGORIES:Fundraising event
ATTACH;FMTTYPE=image/png:https://cornerstonelibrary.org/wp-content/uploads/2026/02/StPatricks-Church-Hall-Marshside-Road-Doors-Open-at-130pm.png
END:VEVENT
BEGIN:VEVENT
DTSTART;TZID=UTC:20260326T101500
DTEND;TZID=UTC:20260326T110000
DTSTAMP:20260423T191237
CREATED:20260216T213511Z
LAST-MODIFIED:20260312T180320Z
UID:2932-1774520100-1774522800@cornerstonelibrary.org
SUMMARY:26/3/2026 - Story and Rhyme Time
DESCRIPTION:Story and Rhyme time\n\n Sing\, giggle\, and play – it’s Story & Rhyme Time!\n\n\n\nJoin us this Thursday at 10:15am for a fun\, FREE session for little ones aged 0–4 years.\n\n\n Familiar rhymes & actions\n Puppets & props for extra fun\n A chance for carers to chat & connect\n\n\n\n Sessions last about 45 mins\n\n\n\n Everyone welcome – no booking needed!\n\n Come along and make magical memories with your child!
URL:https://cornerstonelibrary.org/event/story-and-rhyme-time-4/
CATEGORIES:Weekly event
ATTACH;FMTTYPE=image/jpeg:https://cornerstonelibrary.org/wp-content/uploads/2025/07/Story-and-Rhyme-time.jpg
END:VEVENT
END:VCALENDAR